BEGIN:VCALENDAR
VERSION:2.0
PRODID:-//West Chester Bird Club - ECPv6.15.20//NONSGML v1.0//EN
CALSCALE:GREGORIAN
METHOD:PUBLISH
X-WR-CALNAME:West Chester Bird Club
X-ORIGINAL-URL:https://westchesterbirdclub.org
X-WR-CALDESC:Events for West Chester Bird Club
REFRESH-INTERVAL;VALUE=DURATION:PT1H
X-Robots-Tag:noindex
X-PUBLISHED-TTL:PT1H
BEGIN:VTIMEZONE
TZID:America/New_York
BEGIN:DAYLIGHT
TZOFFSETFROM:-0500
TZOFFSETTO:-0400
TZNAME:EDT
DTSTART:20190310T070000
END:DAYLIGHT
BEGIN:STANDARD
TZOFFSETFROM:-0400
TZOFFSETTO:-0500
TZNAME:EST
DTSTART:20191103T060000
END:STANDARD
BEGIN:DAYLIGHT
TZOFFSETFROM:-0500
TZOFFSETTO:-0400
TZNAME:EDT
DTSTART:20200308T070000
END:DAYLIGHT
BEGIN:STANDARD
TZOFFSETFROM:-0400
TZOFFSETTO:-0500
TZNAME:EST
DTSTART:20201101T060000
END:STANDARD
BEGIN:DAYLIGHT
TZOFFSETFROM:-0500
TZOFFSETTO:-0400
TZNAME:EDT
DTSTART:20210314T070000
END:DAYLIGHT
BEGIN:STANDARD
TZOFFSETFROM:-0400
TZOFFSETTO:-0500
TZNAME:EST
DTSTART:20211107T060000
END:STANDARD
BEGIN:DAYLIGHT
TZOFFSETFROM:-0500
TZOFFSETTO:-0400
TZNAME:EDT
DTSTART:20220313T070000
END:DAYLIGHT
BEGIN:STANDARD
TZOFFSETFROM:-0400
TZOFFSETTO:-0500
TZNAME:EST
DTSTART:20221106T060000
END:STANDARD
END:VTIMEZONE
BEGIN:VEVENT
DTSTART;TZID=America/New_York:20210102T080000
DTEND;TZID=America/New_York:20210102T170000
DTSTAMP:20260422T040554
CREATED:20130915T171111Z
LAST-MODIFIED:20130915T171111Z
UID:10000016-1609574400-1609606800@westchesterbirdclub.org
SUMMARY:Northern Chester County and Lancaster County\, PA
DESCRIPTION:For: Rough-legged Hawks\, larks \nPlace: Struble Lake parking lot\, 8:00 a.m. \nLeaders: Dorothy Bedford (609-658-1894\, db@bt9.org) and John Mercer (484-459-2062\, mercer1135@aol.com) \nNote: Bring lunch and snacks to celebrate the New Year. This is an all-day trip. Due to Covid concerns\, check with leader to confirm if a participant limit is in effect and if carpooling is occurring \nDirections:  From Downingtown\, take Route 322 west for 7 miles and take a slight right onto Chestnut Tree Road (after the Sunoco gas tanks). In about 3 miles bear left at the stop sign onto Morgantown Rd.  The parking area for Struble Lake is 0.5 miles on the left. \nStruble Lake
URL:https://westchesterbirdclub.org/event/northern-chester-county-and-lancaster-county-pa/
CATEGORIES:Field Trips
END:VEVENT
BEGIN:VEVENT
DTSTART;TZID=America/New_York:20200607T080000
DTEND;TZID=America/New_York:20200607T120000
DTSTAMP:20260422T040554
CREATED:20220925T221345Z
LAST-MODIFIED:20220925T221345Z
UID:10001519-1591516800-1591531200@westchesterbirdclub.org
SUMMARY:Brandywine Trail\, Downingtown
DESCRIPTION:For: Summer residents \nPlace: Lot off Rt. 322 just East of the Railroad Bridge\, 8:00 a.m. \nLeaders: Judy White (610-429-1409\, jwhite133@comcast.net) and \nPat Messner (484-716-7564\, patmessner32@gmail.com) \nNote: Half-day trip\, 2.6 miles of fairly flat paved walkway\, with benches and plenty of shade. \nDirections: From Downingtown\, take East Rt.322\, go under the railroad bridge and look for the lot on the left side of the road. From West Chester\, go West on Rt. 322 and when you see the trestle ahead\, look for the lot on the right. \nEast Branch Brandywine Trail
URL:https://westchesterbirdclub.org/event/brandywine-trail-downingtown/2020-06-07/
CATEGORIES:Field Trips
END:VEVENT
END:VCALENDAR