BEGIN:VCALENDAR
VERSION:2.0
PRODID:-//West Chester Bird Club - ECPv6.15.20//NONSGML v1.0//EN
CALSCALE:GREGORIAN
METHOD:PUBLISH
X-ORIGINAL-URL:https://westchesterbirdclub.org
X-WR-CALDESC:Events for West Chester Bird Club
REFRESH-INTERVAL;VALUE=DURATION:PT1H
X-Robots-Tag:noindex
X-PUBLISHED-TTL:PT1H
BEGIN:VTIMEZONE
TZID:America/New_York
BEGIN:DAYLIGHT
TZOFFSETFROM:-0500
TZOFFSETTO:-0400
TZNAME:EDT
DTSTART:20250309T070000
END:DAYLIGHT
BEGIN:STANDARD
TZOFFSETFROM:-0400
TZOFFSETTO:-0500
TZNAME:EST
DTSTART:20251102T060000
END:STANDARD
BEGIN:DAYLIGHT
TZOFFSETFROM:-0500
TZOFFSETTO:-0400
TZNAME:EDT
DTSTART:20260308T070000
END:DAYLIGHT
BEGIN:STANDARD
TZOFFSETFROM:-0400
TZOFFSETTO:-0500
TZNAME:EST
DTSTART:20261101T060000
END:STANDARD
BEGIN:DAYLIGHT
TZOFFSETFROM:-0500
TZOFFSETTO:-0400
TZNAME:EDT
DTSTART:20270314T070000
END:DAYLIGHT
BEGIN:STANDARD
TZOFFSETFROM:-0400
TZOFFSETTO:-0500
TZNAME:EST
DTSTART:20271107T060000
END:STANDARD
END:VTIMEZONE
BEGIN:VEVENT
DTSTART;TZID=America/New_York:20260406T193000
DTEND;TZID=America/New_York:20260406T213000
DTSTAMP:20260419T174024
CREATED:20250908T145027Z
LAST-MODIFIED:20260311T130824Z
UID:10003498-1775503800-1775511000@westchesterbirdclub.org
SUMMARY:Northern Peru\, Upland and the Amazon Basin
DESCRIPTION:John McNamara \nWCBC member John McNamara will tell us about his travels in northern Peru. \n  \nJohn is a long-time member of the WCBC who is a serious bird photographer. He can often be seen on club trips providing advice to participants on the use of their optics.  \n  \nNote: This meeting will be held in person at the meeting house and via Zoom. Zoom signon will start at 7:15 to enable the meeting to begin at 7:30.
URL:https://westchesterbirdclub.org/event/tbd-23/
CATEGORIES:Meetings & Programs
END:VEVENT
BEGIN:VEVENT
DTSTART;TZID=America/New_York:20260420T193000
DTEND;TZID=America/New_York:20260420T213000
DTSTAMP:20260419T174024
CREATED:20250908T145037Z
LAST-MODIFIED:20260418T180547Z
UID:10003497-1776713400-1776720600@westchesterbirdclub.org
SUMMARY:Birding the Lower Rio Grande of Texas - From South Padre Island to Falcon Dam
DESCRIPTION:John McFarland \nJohn & Karen were volunteers at Santa Ana NWR along the Rio Grande in Texas\, October – December 2024. In that time period and through various bird guides\, they got to know many of the hot spots of the Lower Rio Grande Valley. This presentation will showcase many of the specialties of this area and give you insight on how you too can easily bird this unique region. \n  \nJohn & Karen have been avid birders for over 25 years. They retired about five years ago and travel the US via RV. \n  \nZoom Link to Meeting \n  \nNote: This meeting will be held in person at the meeting house and via Zoom. Zoom signon will start at 7:15 to enable the meeting to begin at 7:30. \n 
URL:https://westchesterbirdclub.org/event/tbd-24/
CATEGORIES:Meetings & Programs
END:VEVENT
BEGIN:VEVENT
DTSTART;TZID=America/New_York:20260504T193000
DTEND;TZID=America/New_York:20260504T213000
DTSTAMP:20260419T174024
CREATED:20250908T145055Z
LAST-MODIFIED:20251015T202736Z
UID:10003496-1777923000-1777930200@westchesterbirdclub.org
SUMMARY:The Purple Martins of Southeast PA: Where Do They Come From\, Where Do They Go?
DESCRIPTION:Will Krohn \nPurple Martins are the largest species of swallow in North America and\, in the east\, they nest almost entirely in human-constructed nesting colonies. Southeastern PA is one of two strongholds for Purple Martins in the state\, and some of the largest colonies in Pennsylvania are in Chester and Delaware Counties. Purple Martins are a model organism for studying the migration and movement of songbirds due to their large size\, conspicuous nature\, and proximity to humans. They’re also a strong indicator of overall ecosystem health. Will’s research seeks to uncover the rates at which young Purple Martins return to and disperse from the natal colony after hatching. Understanding how far Purple Martins travel from the natal colony is especially important since humans must construct all nesting colonies for the species. Purple Martins have declined by approximately 38% since 1970\, so quantifying the rates and distances at which martins disperse will be a key tool for the conservation and management of the species. The Pennsylvania Game Commission and potentially other agencies will be able to use the information he collects in determining where they can best construct new colonies to bolster populations and connectivity\, helping steer the recovery of this beloved bird. \n  \nWill Krohn is an M.S. student in Wildlife Ecology at the University of Delaware\, studying dispersal in Purple Martins for his thesis. Will received his B.A. from Colgate University in 2023\, where he double-majored in Biology and Environmental Studies. Since graduating\, Will has worked as a technician on numerous avian research and conservation projects around the country\, and in 2025\, Will started his Master’s at UD. Will is originally from Bucks County\, PA\, and he is an avid PA birder. In his free time\, Will also enjoys rock climbing\, hiking\, and anything else that gets him out in nature.  \n  \nNote: This meeting will be held in person at the meeting house and via Zoom. Zoom signon will start at 7:15 to enable the meeting to begin at 7:30.
URL:https://westchesterbirdclub.org/event/tbd-25/
CATEGORIES:Meetings & Programs
END:VEVENT
BEGIN:VEVENT
DTSTART;TZID=America/New_York:20260518T193000
DTEND;TZID=America/New_York:20260518T213000
DTSTAMP:20260419T174024
CREATED:20250908T145104Z
LAST-MODIFIED:20251114T165830Z
UID:10003495-1779132600-1779139800@westchesterbirdclub.org
SUMMARY:John Mercer & Dorothy Bedford
DESCRIPTION:John Mercer & Dorothy Bedford \nTBD \n  \nTBD \n  \nNote: This meeting will be held in person at the meeting house and via Zoom. Zoom signon will start at 7:15 to enable the meeting to begin at 7:30.
URL:https://westchesterbirdclub.org/event/tbd-26/
CATEGORIES:Meetings & Programs
END:VEVENT
BEGIN:VEVENT
DTSTART;TZID=America/New_York:20260601T193000
DTEND;TZID=America/New_York:20260601T213000
DTSTAMP:20260419T174024
CREATED:20250908T145434Z
LAST-MODIFIED:20250908T145757Z
UID:10003499-1780342200-1780349400@westchesterbirdclub.org
SUMMARY:Members' Photos
DESCRIPTION:Coordinated by TBD  \nEvery year\, we end our meetings and presentations on the first Monday in June with a showing of members’ photos.  If you would like to contribute and show your photos\, below is the process for getting the photos to TBD.  This is quite a bit of work for the coordinator\, so please get your pictures to TBD as soon as you can. \n1. Maximum 50 photos per participating member\n(depending on the number of people that want to show pictures\, TBD may need to make a selection and pair the numbers down a bit.  We think the absolute maximum number of photos should not exceed 300.  E.g. if 7 people send 50 photos each\, TBD will take out 7 photos per submission to bring it down to 301). \n  \n2. The photos need to be in JPEG format.  Ideally each photo file should be 2Mb or less.  However\, if you don’t know how to compress your files\, TBD with do so himself if it becomes too much for the Powerpoint presentation file \n  \n3. Each file name should include the name of the bird.  If you want to also show on the slides the location where the photos were taken\, please include the name of the location also in the file name\, or include a Word document with the cross reference of location to the file name.  TBD will then make sure that the location is shown on the slides. \n  \n4. The photos should preferably be sent to TBD via websites such as DROPBOX or WETRANSFER.  These services are free if you don’t exceed 2 Gb for the 50 photos combined. \n  \n5.TBD’s email address is TBD \n  \n6. Please make sure to get your photos to TBD by May 15th at the very latest.  Earlier submissions are encouraged. \n  \n7. If you want to give the photos to TBD on a memory stick or a CD\, get in touch with him via phone (cell: TBD) or via email to discuss day\, time and location to hand over the memory stick or the CD\, You can also mail a memory stick or CD to his home address at TBD. \n  \nNOTE: This meeting will be held in person at the meeting house and via Zoom. Zoom signon will start at 7:15 to enable the meeting to begin at 7:30. \nZoom Link to Meeting
URL:https://westchesterbirdclub.org/event/members-photos-6/
CATEGORIES:Meetings & Programs
END:VEVENT
END:VCALENDAR