BEGIN:VCALENDAR
VERSION:2.0
PRODID:-//West Chester Bird Club - ECPv6.15.20//NONSGML v1.0//EN
CALSCALE:GREGORIAN
METHOD:PUBLISH
X-ORIGINAL-URL:https://westchesterbirdclub.org
X-WR-CALDESC:Events for West Chester Bird Club
REFRESH-INTERVAL;VALUE=DURATION:PT1H
X-Robots-Tag:noindex
X-PUBLISHED-TTL:PT1H
BEGIN:VTIMEZONE
TZID:America/New_York
BEGIN:DAYLIGHT
TZOFFSETFROM:-0500
TZOFFSETTO:-0400
TZNAME:EDT
DTSTART:20240310T070000
END:DAYLIGHT
BEGIN:STANDARD
TZOFFSETFROM:-0400
TZOFFSETTO:-0500
TZNAME:EST
DTSTART:20241103T060000
END:STANDARD
BEGIN:DAYLIGHT
TZOFFSETFROM:-0500
TZOFFSETTO:-0400
TZNAME:EDT
DTSTART:20250309T070000
END:DAYLIGHT
BEGIN:STANDARD
TZOFFSETFROM:-0400
TZOFFSETTO:-0500
TZNAME:EST
DTSTART:20251102T060000
END:STANDARD
BEGIN:DAYLIGHT
TZOFFSETFROM:-0500
TZOFFSETTO:-0400
TZNAME:EDT
DTSTART:20260308T070000
END:DAYLIGHT
BEGIN:STANDARD
TZOFFSETFROM:-0400
TZOFFSETTO:-0500
TZNAME:EST
DTSTART:20261101T060000
END:STANDARD
BEGIN:DAYLIGHT
TZOFFSETFROM:-0500
TZOFFSETTO:-0400
TZNAME:EDT
DTSTART:20270314T070000
END:DAYLIGHT
BEGIN:STANDARD
TZOFFSETFROM:-0400
TZOFFSETTO:-0500
TZNAME:EST
DTSTART:20271107T060000
END:STANDARD
END:VTIMEZONE
BEGIN:VEVENT
DTSTART;TZID=America/New_York:20250519T193000
DTEND;TZID=America/New_York:20250519T213000
DTSTAMP:20260422T182216
CREATED:20240904T130445Z
LAST-MODIFIED:20250517T153251Z
UID:10001751-1747683000-1747690200@westchesterbirdclub.org
SUMMARY:My Trip to Belize
DESCRIPTION:Club member John Mercer \nA travelogue of the trip I took with the Hawk Migration Association of North America to visit the Belize Hawk watch and do a lot of other birding. \n  \nJohn Mercer is the treasurer of the West Chester Bird Club. \n  \nZoom Link to Meeting \n  \nNote: This meeting will be held in person at the meeting house and via Zoom. Zoom signon will start at 7:15 to enable the meeting to begin at 7:30. \n 
URL:https://westchesterbirdclub.org/event/tbd-22/
CATEGORIES:Meetings & Programs
END:VEVENT
BEGIN:VEVENT
DTSTART;TZID=America/New_York:20250602T193000
DTEND;TZID=America/New_York:20250602T213000
DTSTAMP:20260422T182216
CREATED:20240904T130858Z
LAST-MODIFIED:20250529T203255Z
UID:10001752-1748892600-1748899800@westchesterbirdclub.org
SUMMARY:Members' Photos
DESCRIPTION:Coordinated by Luc Jacobs. \n \nEvery year\, we end our meetings and presentations on the first Monday in June with a showing of members’ photos.  If you would like to contribute and show your photos\, below is the process for getting the photos to Luc Jacobs.  This is quite a bit of work for Luc\, so please get your pictures to Luc as soon as you can.\n  \n1. Maximum 50 photos per participating member\n(depending on the number of people that want to show pictures\, Luc may need to make a selection and pair the numbers down a bit.  We think the absolute maximum number of photos should not exceed 300.  E.g. if 7 people send 50 photos each\, Luc will take out 7 photos per submission to bring it down to 301). \n  \n2. The photos need to be in JPEG format.  Ideally each photo file should be 2Mb or less.  However\, if you don’t know how to compress your files\, Luc with do so himself if it becomes too much for the Powerpoint presentation file \n  \n3. Each file name should include the name of the bird.  If you want to also show on the slides the location where the photos were taken\, please include the name of the location also in the file name\, or include a Word document with the cross reference of location to the file name.  Luc will then make sure that the location is shown on the slides. \n  \n4. The photos should preferably be sent to Luc Jacobs via websites such as DROPBOX or WETRANSFER.  These services are free if you don’t exceed 2 Gb for the 50 photos combined. \n  \n5.Luc’s email address is jacobsluc52@yahoo.com \n  \n6. Please make sure to get your photos to Luc by May 15th at the very latest.  Earlier submissions are encouraged. \n  \n7. If you want to give the photos to Luc on a memory stick or a CD\, get in touch with him via phone (cell: 484-706-1999) or via email to discuss day\, time and location to hand over the memory stick or the CD\, You can also mail a memory stick or CD to his home address at 511 Annadale Drive\, Berwyn\, PA 19312. \n  \nNOTE: This meeting will be held in person at the meeting house and via Zoom. Zoom signon will start at 7:15 to enable the meeting to begin at 7:30.\n  \nZoom Link to Meeting
URL:https://westchesterbirdclub.org/event/members-photos-5/
CATEGORIES:Meetings & Programs
END:VEVENT
BEGIN:VEVENT
DTSTART;TZID=America/New_York:20251006T193000
DTEND;TZID=America/New_York:20251006T213000
DTSTAMP:20260422T182216
CREATED:20250908T144124Z
LAST-MODIFIED:20250908T144124Z
UID:10003491-1759779000-1759786200@westchesterbirdclub.org
SUMMARY:Introduction to Wildlife Photography
DESCRIPTION:Troy Bynum\n \nJoin this introductory photography workshop and unlock the secrets of digital photography! This hands-on course delves into the essentials of Aperture\, Shutter Speed\, and ISO\, empowering participants with a solid foundation on digital photography basics. Explore Exposure Compensation\, Auto-Focus\, Metering\, and more\, while mastering important terminology and troubleshooting techniques.\n \nPerfect for beginners and seasoned photographers alike\, this workshop cultivates the skills needed to capture images with your unique artistic flair. By the end\, you’ll confidently use manual settings to photograph wildlife and diverse subjects. The information covered in this course is applicable across various camera types – DSLR\, mirrorless\, bridge\, superzoom\, and even your phone. Elevate your photography journey with this workshop!\n \nParticipants should bring a camera with a fully charged battery and the instruction/user manual for use during the hands-on portions. \n  \nTroy Bynum\, owner of TB Wildlife Photography LLC\, is not only an enthusiastic birder but also a passionate wildlife photographer from Philadelphia\, PA. Troy’s work focuses on capturing and showcasing the remarkable colors\, intricate patterns\, and rich textures that are abundant throughout the natural world. In his work\, Troy draws attention to the oftentimes overlooked naturally occurring beauty found in the wild. Troy is on a mission to accentuate and celebrate the inherent magnificence of nature. \n  \nNote: This meeting will be held in person at the meeting house and via Zoom. Zoom signon will start at 7:15 to enable the meeting to begin at 7:30.
URL:https://westchesterbirdclub.org/event/introduction-to-wildlife-photography/
LOCATION:Zoom
CATEGORIES:Meetings & Programs
END:VEVENT
BEGIN:VEVENT
DTSTART;TZID=America/New_York:20251020T193000
DTEND;TZID=America/New_York:20251020T213000
DTSTAMP:20260422T182216
CREATED:20250907T234113Z
LAST-MODIFIED:20251009T191310Z
UID:10003487-1760988600-1760995800@westchesterbirdclub.org
SUMMARY:Perched on the Edge: Birds of Newfoundland & Labrador
DESCRIPTION:Jared Clarke \nJoin us for an overview of birds & birding at the eastern edge of Canada & North America. From spectacular seabird colonies to lush boreal forests and puffins to warblers\, Newfoundland & Labrador offers a unique blend of habitats and a wide diversity of birds – along with may other natural and cultural highlights to enjoy along the way. \n  \nJared Clarke grew up on the northeast coast of Newfoundland and was introduced to the outdoors at a very young age\, mostly by his grandfathers. Always a nature enthusiast\, he became interested in birds while working for a local conservation group. Jared soon became one of the most avid birders in the province. Despite his “official” training as a health researcher (Ph.D. Medicine)\, his love of nature and sharing it with others increasingly led him astray. He currently runs a small bird and nature tour business\, called Bird•The•Rock\, and routinely leads trips at home and abroad for various tour companies. You can follow his adventures at www.birdtherock.com. \n  \nNote: This meeting will be held in person at the meeting house and via Zoom. Zoom signon will start at 7:15 to enable the meeting to begin at 7:30.
URL:https://westchesterbirdclub.org/event/perched-on-the-edge-birds-of-newfoundland-labrador/
CATEGORIES:Meetings & Programs
END:VEVENT
BEGIN:VEVENT
DTSTART;TZID=America/New_York:20251103T193000
DTEND;TZID=America/New_York:20251103T213000
DTSTAMP:20260422T182216
CREATED:20250907T234559Z
LAST-MODIFIED:20251010T140304Z
UID:10003488-1762198200-1762205400@westchesterbirdclub.org
SUMMARY:Bird migration in the Anthropocene: Opportunities and Challenges Defining the State of the Art in Studying Bird Movements
DESCRIPTION:Andrew Farnsworth \nBirdCast is a collaborative project that employs the expertises of computer scientists and ornithologists to harness the power of big data to study movements of birds and\, more broadly\, capture the spectacle of bird migration. I will be speaking about monitoring bird migration with data collected by citizen scientists and the US weather surveillance radar network to forecast where\, when\, and how many birds will migrate and to observe these movements in near real-time at a continental scale. I will discuss magnitudes and extents of migration\, challenges of monitoring birds’ nocturnal movements at scales relevant to their biology\, and ways we use radar to remotely sense interconnected patterns in time and space. Birds truly represent dynamic and global communities\, and recent trends in methods and analyses showcase what may be the future of bird migration research and conservation to study birds’ complex roles in terrestrial\, aerial\, and aquatic systems. In the age of big data and observation\, the potential of what remains for us to learn is inspiring. \n  \nAndrew Farnsworth is a Visiting Scientist in the Center for Avian Population Studies at the Cornell Lab of Ornithology. Andrew began birding at age 5 and quickly developed his long-standing fascinations with bird migration. His current research applies remote sensing technologies\, including weather surveillance radar\, audio and video recording and monitoring tools\, citizen science datasets\, and machine learning techniques\, to study bird movements. Andrew received his BS in Natural Resources from Cornell\, MS in Zoology from Clemson University\, and PhD in Ecology and Evolutionary Biology from Cornell University. He lives in New York\, NY with his wife Patti and two daughters Aja and Elle. Andrew is also active in his family foundation\, whose mission includes support for climate change education\, promoting women’s health and rights\, children’s education\, and land conservation. He is also a musician when time and space allow. \n  \nNote: This meeting will be held in person at the meeting house and via Zoom. Zoom signon will start at 7:15 to enable the meeting to begin at 7:30.
URL:https://westchesterbirdclub.org/event/wild-turkey-research-in-pennsylvania/
CATEGORIES:Meetings & Programs
END:VEVENT
BEGIN:VEVENT
DTSTART;TZID=America/New_York:20251117T193000
DTEND;TZID=America/New_York:20251117T213000
DTSTAMP:20260422T182216
CREATED:20250907T234958Z
LAST-MODIFIED:20251009T192231Z
UID:10003489-1763407800-1763415000@westchesterbirdclub.org
SUMMARY:Ecological Sustainability in West Chester Borough
DESCRIPTION:Will Williams – Sustainability Director – Borough of West Chester \nMr. Williams will present on past\, present\, and future projects\, initiatives\, and policy related to ecological sustainability and habitat restoration in the borough. Will is a Chester County native and avid birder\, who lived in West Chester for 12 years and worked for the borough for six. Recent additions to his lifelist include a Yellow-billed Cuckoo in Delaware\, a Cerulean Warbler in Chadds Ford\, and a Great Tit in Morocco. \n  \nNote: This meeting will be held in person at the meeting house and via Zoom. Zoom signon will start at 7:15 to enable the meeting to begin at 7:30.
URL:https://westchesterbirdclub.org/event/ecological-sustainability-in-west-chester-borough/
CATEGORIES:Meetings & Programs
END:VEVENT
BEGIN:VEVENT
DTSTART;TZID=America/New_York:20251201T193000
DTEND;TZID=America/New_York:20251201T213000
DTSTAMP:20260422T182216
CREATED:20250907T235720Z
LAST-MODIFIED:20251009T192306Z
UID:10003490-1764617400-1764624600@westchesterbirdclub.org
SUMMARY:Return to the Sky: the Reintroduction of Bald Eagles
DESCRIPTION:Tina Morris \nAs the bald eagle\, our national symbol\, was facing extinction in the continental U.S. in 1976\, Tina Morris was beginning her graduate work at Cornell University. By luck and circumstance\, she was selected to reintroduce the species into New York State in the hope that eagles could repopulate eastern North America.  Young\, female\, with no experience\, she faced the challenges of saving this iconic bird while striving for acceptance in the unfamiliar male-dominated world of raptor biology. Playing mother to seven eagles forced her to transcend the isolation of field research to rescue an endangered species while in turn rescuing herself. \n  \nTina completed her graduate work in ornithology and wildlife biology at Cornell in 1978\, writing her thesis on the adaptations of hacking techniques to reintroduce bald eagles. Following her studies at Cornell\, she worked for the U.S. Fish and Wildlife Service and the Nature Conservancy for several years\, focusing on endangered species and critical habitat conservation\, before embarking on a 23-year career teaching English and biology. Since her retirement in 2020\, she has devoted her time to her own writing\, especially creative non-fiction with a science or nature focus. Thirty years ago\, with four children in tow\, Tina and her husband bought a farm in northern Massachusetts\, which they manage as a wildlife sanctuary\, promoting biodiversity and habitat protection for species in decline. \n  \nNote: This meeting will be held in person at the meeting house and via Zoom. Zoom signon will start at 7:15 to enable the meeting to begin at 7:30.
URL:https://westchesterbirdclub.org/event/return-to-the-sky-the-reintroduction-of-bald-eagles/
CATEGORIES:Meetings & Programs
END:VEVENT
BEGIN:VEVENT
DTSTART;TZID=America/New_York:20260105T193000
DTEND;TZID=America/New_York:20260105T213000
DTSTAMP:20260422T182216
CREATED:20250908T144505Z
LAST-MODIFIED:20251129T161130Z
UID:10003492-1767641400-1767648600@westchesterbirdclub.org
SUMMARY:For the Love of Bluebirds
DESCRIPTION:Nancy Fraim \nNancy’s presentation covers all aspects of a bluebird’s life during the year and how we can help them survive and thrive. It includes everything from identifying a bluebird\, to nesting behaviors\, as well as how to attract and protect them. The power point is filled with many photos and video clips which she had taken throughout her years as monitor. Lots of tips and tricks will be presented for not only bluebirds but other cavity nesters too. \n  \nNancy Fraim taught elementary students for 39 years. After retiring\, Nancy became Chester County Coordinator for the Bluebird Society of PA\, a Board member and Membership Chair. She shares her bluebird knowledge on BSP’s Facebook page and gives many talks to schools and organizations.\nNancy and her husband live in Downingtown. \n  \nNote: This meeting will be held in person at the meeting house and via Zoom. Zoom signon will start at 7:15 to enable the meeting to begin at 7:30.
URL:https://westchesterbirdclub.org/event/bluebirds-tbd/
CATEGORIES:Meetings & Programs
END:VEVENT
BEGIN:VEVENT
DTSTART;TZID=America/New_York:20260202T193000
DTEND;TZID=America/New_York:20260202T213000
DTSTAMP:20260422T182216
CREATED:20250911T155250Z
LAST-MODIFIED:20251009T192322Z
UID:10003504-1770060600-1770067800@westchesterbirdclub.org
SUMMARY:Pennsylvania Bird Conservation
DESCRIPTION:Sean Murphy \nThe Pennsylvania Game Commission’s Recovery Division is charged with the conservation and management of all protected birds and mammals. From managing Threatened and Endangered species to coordinating statewide surveys\, the agency has a wide range of avian projects with an equally wide range of partners. The presentation will highlight recent accomplishments\, the agency’s role in bird conservation in Pennsylvania\, and upcoming opportunities to support and help. \n  \nSean joined the Wildlife Recovery Division of the Pennsylvania Game Commission in 2019 and leads the Protected Birds Section. A Pittsburgh native\, he received a Bachelor of Science from Penn State and Ph.D. from the City University of New York. Before joining\, he worked as a Wildlife Biologist for a few NGOs (in Massachusetts) and the U.S. Geological Survey (in Oregon). He currently lives in the Harrisburg area and spends most of his free time with his family and coaching youth soccer. \n  \nNote: This meeting will be held in person at the meeting house and via Zoom. Zoom signon will start at 7:15 to enable the meeting to begin at 7:30.
URL:https://westchesterbirdclub.org/event/pennsylvania-bird-conservation/
CATEGORIES:Meetings & Programs
END:VEVENT
BEGIN:VEVENT
DTSTART;TZID=America/New_York:20260302T193000
DTEND;TZID=America/New_York:20260302T213000
DTSTAMP:20260422T182216
CREATED:20250908T144943Z
LAST-MODIFIED:20251013T155703Z
UID:10003494-1772479800-1772487000@westchesterbirdclub.org
SUMMARY:Food Supplementation Increases Reproductive Performance of Ospreys in the Lower Chesapeake Bay
DESCRIPTION:Michael Academia \n Michael Academia\, a recent M.Sc. graduate from the William & Mary Biology Department. He believes the “Chesapeake Bay is an ecological treasure and should be treated as such for the next generations. We have the world’s largest breeding population of ospreys and our Chesapeake Bay population should be conserved as our stronghold.” Michael won the prestigious William Andersen Award at the 2022 International Raptor Research Conference for his research involving ospreys and the localized depletion of Atlantic menhaden in the Lower Chesapeake Bay. This recognition is very special to Michael and reflects his hard work and dedication to ospreys\, the fish they depend on\, and the environments in which they thrive.\n \n  \n Michael conducted his studies as part of the Center for Conservation Biology. The Center has been focused on osprey research since 1970 and over the past 50 years generations of graduate students have worked with ospreys. The collective and substantial work of these students provides insight into the response of ospreys to changing menhaden availability. Currently\, Michael’s manuscript is in the peer review process and will be featured in the Journal of Raptor Research. He is also active in harvest policy procedures to enact change based on the scientific evidence gathered. \n  \nNote: This meeting will be held in person at the meeting house and via Zoom. Zoom signon will start at 7:15 to enable the meeting to begin at 7:30.
URL:https://westchesterbirdclub.org/event/tbd-3/
CATEGORIES:Meetings & Programs
END:VEVENT
BEGIN:VEVENT
DTSTART;TZID=America/New_York:20260316T193000
DTEND;TZID=America/New_York:20260316T213000
DTSTAMP:20260422T182216
CREATED:20251010T141157Z
LAST-MODIFIED:20251114T170317Z
UID:10003507-1773689400-1773696600@westchesterbirdclub.org
SUMMARY:The Red-tailed Hawk Project: What We Do and Don't Know About a Common but Incredible Hawk
DESCRIPTION:Bryce Robinson \nIn this presentation\, Bryce will outline the work of the Red-tailed Hawk Project\, including many stories of surprising things the working group has learned in their investigation into the unknowns of this common species. \n  \nBryce W. Robinson is postdoctoral researcher at the Cornell Lab of Ornithology\, where his research focuses on the evolution of diversity in the Red-tailed Hawk. As part of this work\, Bryce co-created and leads the Red-tailed Hawk Project\, a working group that aims to fill knowledge gaps in our understanding of the life history and evolution of the species. Additionally\, Bryce is an ornithological illustrator whose work has been featured in scientific papers\, on journal covers\, and in logos for organizations and events. To learn more about the Red-tailed Hawk Project\, visit www.redtailedhawkproject.org. \n  \nNote: This meeting will be held in person at the meeting house and via Zoom. Zoom signon will start at 7:15 to enable the meeting to begin at 7:30.
URL:https://westchesterbirdclub.org/event/tbd-27/
CATEGORIES:Meetings & Programs
END:VEVENT
BEGIN:VEVENT
DTSTART;TZID=America/New_York:20260406T193000
DTEND;TZID=America/New_York:20260406T213000
DTSTAMP:20260422T182216
CREATED:20250908T145027Z
LAST-MODIFIED:20260311T130824Z
UID:10003498-1775503800-1775511000@westchesterbirdclub.org
SUMMARY:Northern Peru\, Upland and the Amazon Basin
DESCRIPTION:John McNamara \nWCBC member John McNamara will tell us about his travels in northern Peru. \n  \nJohn is a long-time member of the WCBC who is a serious bird photographer. He can often be seen on club trips providing advice to participants on the use of their optics.  \n  \nNote: This meeting will be held in person at the meeting house and via Zoom. Zoom signon will start at 7:15 to enable the meeting to begin at 7:30.
URL:https://westchesterbirdclub.org/event/tbd-23/
CATEGORIES:Meetings & Programs
END:VEVENT
BEGIN:VEVENT
DTSTART;TZID=America/New_York:20260420T193000
DTEND;TZID=America/New_York:20260420T213000
DTSTAMP:20260422T182216
CREATED:20250908T145037Z
LAST-MODIFIED:20260418T180547Z
UID:10003497-1776713400-1776720600@westchesterbirdclub.org
SUMMARY:Birding the Lower Rio Grande of Texas - From South Padre Island to Falcon Dam
DESCRIPTION:John McFarland \nJohn & Karen were volunteers at Santa Ana NWR along the Rio Grande in Texas\, October – December 2024. In that time period and through various bird guides\, they got to know many of the hot spots of the Lower Rio Grande Valley. This presentation will showcase many of the specialties of this area and give you insight on how you too can easily bird this unique region. \n  \nJohn & Karen have been avid birders for over 25 years. They retired about five years ago and travel the US via RV. \n  \nZoom Link to Meeting \n  \nNote: This meeting will be held in person at the meeting house and via Zoom. Zoom signon will start at 7:15 to enable the meeting to begin at 7:30. \n 
URL:https://westchesterbirdclub.org/event/tbd-24/
CATEGORIES:Meetings & Programs
END:VEVENT
BEGIN:VEVENT
DTSTART;TZID=America/New_York:20260504T193000
DTEND;TZID=America/New_York:20260504T213000
DTSTAMP:20260422T182216
CREATED:20250908T145055Z
LAST-MODIFIED:20251015T202736Z
UID:10003496-1777923000-1777930200@westchesterbirdclub.org
SUMMARY:The Purple Martins of Southeast PA: Where Do They Come From\, Where Do They Go?
DESCRIPTION:Will Krohn \nPurple Martins are the largest species of swallow in North America and\, in the east\, they nest almost entirely in human-constructed nesting colonies. Southeastern PA is one of two strongholds for Purple Martins in the state\, and some of the largest colonies in Pennsylvania are in Chester and Delaware Counties. Purple Martins are a model organism for studying the migration and movement of songbirds due to their large size\, conspicuous nature\, and proximity to humans. They’re also a strong indicator of overall ecosystem health. Will’s research seeks to uncover the rates at which young Purple Martins return to and disperse from the natal colony after hatching. Understanding how far Purple Martins travel from the natal colony is especially important since humans must construct all nesting colonies for the species. Purple Martins have declined by approximately 38% since 1970\, so quantifying the rates and distances at which martins disperse will be a key tool for the conservation and management of the species. The Pennsylvania Game Commission and potentially other agencies will be able to use the information he collects in determining where they can best construct new colonies to bolster populations and connectivity\, helping steer the recovery of this beloved bird. \n  \nWill Krohn is an M.S. student in Wildlife Ecology at the University of Delaware\, studying dispersal in Purple Martins for his thesis. Will received his B.A. from Colgate University in 2023\, where he double-majored in Biology and Environmental Studies. Since graduating\, Will has worked as a technician on numerous avian research and conservation projects around the country\, and in 2025\, Will started his Master’s at UD. Will is originally from Bucks County\, PA\, and he is an avid PA birder. In his free time\, Will also enjoys rock climbing\, hiking\, and anything else that gets him out in nature.  \n  \nNote: This meeting will be held in person at the meeting house and via Zoom. Zoom signon will start at 7:15 to enable the meeting to begin at 7:30.
URL:https://westchesterbirdclub.org/event/tbd-25/
CATEGORIES:Meetings & Programs
END:VEVENT
BEGIN:VEVENT
DTSTART;TZID=America/New_York:20260518T193000
DTEND;TZID=America/New_York:20260518T213000
DTSTAMP:20260422T182216
CREATED:20250908T145104Z
LAST-MODIFIED:20251114T165830Z
UID:10003495-1779132600-1779139800@westchesterbirdclub.org
SUMMARY:John Mercer & Dorothy Bedford
DESCRIPTION:John Mercer & Dorothy Bedford \nTBD \n  \nTBD \n  \nNote: This meeting will be held in person at the meeting house and via Zoom. Zoom signon will start at 7:15 to enable the meeting to begin at 7:30.
URL:https://westchesterbirdclub.org/event/tbd-26/
CATEGORIES:Meetings & Programs
END:VEVENT
BEGIN:VEVENT
DTSTART;TZID=America/New_York:20260601T193000
DTEND;TZID=America/New_York:20260601T213000
DTSTAMP:20260422T182216
CREATED:20250908T145434Z
LAST-MODIFIED:20250908T145757Z
UID:10003499-1780342200-1780349400@westchesterbirdclub.org
SUMMARY:Members' Photos
DESCRIPTION:Coordinated by TBD  \nEvery year\, we end our meetings and presentations on the first Monday in June with a showing of members’ photos.  If you would like to contribute and show your photos\, below is the process for getting the photos to TBD.  This is quite a bit of work for the coordinator\, so please get your pictures to TBD as soon as you can. \n1. Maximum 50 photos per participating member\n(depending on the number of people that want to show pictures\, TBD may need to make a selection and pair the numbers down a bit.  We think the absolute maximum number of photos should not exceed 300.  E.g. if 7 people send 50 photos each\, TBD will take out 7 photos per submission to bring it down to 301). \n  \n2. The photos need to be in JPEG format.  Ideally each photo file should be 2Mb or less.  However\, if you don’t know how to compress your files\, TBD with do so himself if it becomes too much for the Powerpoint presentation file \n  \n3. Each file name should include the name of the bird.  If you want to also show on the slides the location where the photos were taken\, please include the name of the location also in the file name\, or include a Word document with the cross reference of location to the file name.  TBD will then make sure that the location is shown on the slides. \n  \n4. The photos should preferably be sent to TBD via websites such as DROPBOX or WETRANSFER.  These services are free if you don’t exceed 2 Gb for the 50 photos combined. \n  \n5.TBD’s email address is TBD \n  \n6. Please make sure to get your photos to TBD by May 15th at the very latest.  Earlier submissions are encouraged. \n  \n7. If you want to give the photos to TBD on a memory stick or a CD\, get in touch with him via phone (cell: TBD) or via email to discuss day\, time and location to hand over the memory stick or the CD\, You can also mail a memory stick or CD to his home address at TBD. \n  \nNOTE: This meeting will be held in person at the meeting house and via Zoom. Zoom signon will start at 7:15 to enable the meeting to begin at 7:30. \nZoom Link to Meeting
URL:https://westchesterbirdclub.org/event/members-photos-6/
CATEGORIES:Meetings & Programs
END:VEVENT
END:VCALENDAR