BEGIN:VCALENDAR
VERSION:2.0
PRODID:-//West Chester Bird Club - ECPv6.15.20//NONSGML v1.0//EN
CALSCALE:GREGORIAN
METHOD:PUBLISH
X-ORIGINAL-URL:https://westchesterbirdclub.org
X-WR-CALDESC:Events for West Chester Bird Club
REFRESH-INTERVAL;VALUE=DURATION:PT1H
X-Robots-Tag:noindex
X-PUBLISHED-TTL:PT1H
BEGIN:VTIMEZONE
TZID:America/New_York
BEGIN:DAYLIGHT
TZOFFSETFROM:-0500
TZOFFSETTO:-0400
TZNAME:EDT
DTSTART:20240310T070000
END:DAYLIGHT
BEGIN:STANDARD
TZOFFSETFROM:-0400
TZOFFSETTO:-0500
TZNAME:EST
DTSTART:20241103T060000
END:STANDARD
BEGIN:DAYLIGHT
TZOFFSETFROM:-0500
TZOFFSETTO:-0400
TZNAME:EDT
DTSTART:20250309T070000
END:DAYLIGHT
BEGIN:STANDARD
TZOFFSETFROM:-0400
TZOFFSETTO:-0500
TZNAME:EST
DTSTART:20251102T060000
END:STANDARD
BEGIN:DAYLIGHT
TZOFFSETFROM:-0500
TZOFFSETTO:-0400
TZNAME:EDT
DTSTART:20260308T070000
END:DAYLIGHT
BEGIN:STANDARD
TZOFFSETFROM:-0400
TZOFFSETTO:-0500
TZNAME:EST
DTSTART:20261101T060000
END:STANDARD
END:VTIMEZONE
BEGIN:VEVENT
DTSTART;TZID=America/New_York:20250505T193000
DTEND;TZID=America/New_York:20250505T213000
DTSTAMP:20260419T140700
CREATED:20240904T125248Z
LAST-MODIFIED:20250502T175949Z
UID:10001750-1746473400-1746480600@westchesterbirdclub.org
SUMMARY:Birds and the Butterflies of Honduras
DESCRIPTION:Robert Galardo \nIf tropical birds and butterflies fascinate you\, then you’ll be sure to enjoy this virtual presentation. It will be an up-close and personal look at these colorful denizens of Honduras. To date\, more than 800 species of birds and over 1\,300 butterflies have been found there. This little known Central American country still receives little attention\, but Robert will take you on a picture-filled journey on what he\, and other colleagues\, have been doing there for the past 30 years. After nearly two decades of field work\, Robert published two lengthy volumes on the birds of Honduras (in English and Spanish). He and his partner\, Olivia\, then set out to start working on the country’s butterflies; a field of fauna that was virtually unknown. After seven years of field work\, they finally finished the first edition of the Guide to the Butterflies of Honduras. Join Robert on this enlightening presentation and get to know the beautiful country he calls ‘home’. \n  \nRobert is originally from California. His passion for all things natural lead him to get a degree in Natural Resources Planning and Interpretation from Humboldt State University in his home state. Immediately after graduating\, he joined the Peace Corps and served as a volunteer in Honduras from 1993-1996. He remained in that country and has been there ever since. He and Olivia reside at Emerald Valley\, an international butterfly center\, home to 755 species of butterflies and 200 birds. \n \n \n\n \n \nZoom Link to Meeting \nNote: This meeting will be held in person at the meeting house and via Zoom. Zoom signon will start at 7:15 to enable the meeting to begin at 7:30. \n 
URL:https://westchesterbirdclub.org/event/birds-and-the-butterflies-of-honduras/
CATEGORIES:Meetings & Programs
END:VEVENT
BEGIN:VEVENT
DTSTART;TZID=America/New_York:20250519T193000
DTEND;TZID=America/New_York:20250519T213000
DTSTAMP:20260419T140700
CREATED:20240904T130445Z
LAST-MODIFIED:20250517T153251Z
UID:10001751-1747683000-1747690200@westchesterbirdclub.org
SUMMARY:My Trip to Belize
DESCRIPTION:Club member John Mercer \nA travelogue of the trip I took with the Hawk Migration Association of North America to visit the Belize Hawk watch and do a lot of other birding. \n  \nJohn Mercer is the treasurer of the West Chester Bird Club. \n  \nZoom Link to Meeting \n  \nNote: This meeting will be held in person at the meeting house and via Zoom. Zoom signon will start at 7:15 to enable the meeting to begin at 7:30. \n 
URL:https://westchesterbirdclub.org/event/tbd-22/
CATEGORIES:Meetings & Programs
END:VEVENT
END:VCALENDAR