BEGIN:VCALENDAR
VERSION:2.0
PRODID:-//West Chester Bird Club - ECPv6.15.20//NONSGML v1.0//EN
CALSCALE:GREGORIAN
METHOD:PUBLISH
X-ORIGINAL-URL:https://westchesterbirdclub.org
X-WR-CALDESC:Events for West Chester Bird Club
REFRESH-INTERVAL;VALUE=DURATION:PT1H
X-Robots-Tag:noindex
X-PUBLISHED-TTL:PT1H
BEGIN:VTIMEZONE
TZID:America/New_York
BEGIN:DAYLIGHT
TZOFFSETFROM:-0500
TZOFFSETTO:-0400
TZNAME:EDT
DTSTART:20240310T070000
END:DAYLIGHT
BEGIN:STANDARD
TZOFFSETFROM:-0400
TZOFFSETTO:-0500
TZNAME:EST
DTSTART:20241103T060000
END:STANDARD
BEGIN:DAYLIGHT
TZOFFSETFROM:-0500
TZOFFSETTO:-0400
TZNAME:EDT
DTSTART:20250309T070000
END:DAYLIGHT
BEGIN:STANDARD
TZOFFSETFROM:-0400
TZOFFSETTO:-0500
TZNAME:EST
DTSTART:20251102T060000
END:STANDARD
BEGIN:DAYLIGHT
TZOFFSETFROM:-0500
TZOFFSETTO:-0400
TZNAME:EDT
DTSTART:20260308T070000
END:DAYLIGHT
BEGIN:STANDARD
TZOFFSETFROM:-0400
TZOFFSETTO:-0500
TZNAME:EST
DTSTART:20261101T060000
END:STANDARD
END:VTIMEZONE
BEGIN:VEVENT
DTSTART;TZID=America/New_York:20250203T193000
DTEND;TZID=America/New_York:20250203T213000
DTSTAMP:20260419T192309
CREATED:20240904T123844Z
LAST-MODIFIED:20250129T224736Z
UID:10001745-1738611000-1738618200@westchesterbirdclub.org
SUMMARY:The National Aviary in Pittsburgh
DESCRIPTION:Robert S. Mulvihill\n \nThe National Aviary in Pittsburgh Does Bird Conservation Around the World. Formally designated as the “National” Aviary by an act of Congress signed into law by President Bill Clinton in 1993\, the National Aviary was first established as a local Conservatory-Aviary in 1952. For more than 70 years the facility has pursued its mission to “Inspire respect for nature through an appreciation of birds.” In addition to serving as a popular recreation and education destination\, the National Aviary pursues important bird conservation work around the world. Ornithologist\, Bob Mulvihill\, will give us a look behind the scenes at some of the National Aviary’s ground-breaking contributions to bird conservation efforts\, from Louisiana to the Dominican Republic\, Ecuador\, South Africa\, Guam\, and right back here in Pennsylvania\, too. \n  \n  \nNote: This meeting will be held in person at the meeting house and via Zoom. Zoom signon will start at 7:15 to enable the meeting to begin at 7:30. \n 
URL:https://westchesterbirdclub.org/event/the-national-aviary-in-pittsburgh/
CATEGORIES:Meetings & Programs
END:VEVENT
END:VCALENDAR