BEGIN:VCALENDAR
VERSION:2.0
PRODID:-//West Chester Bird Club - ECPv6.15.20//NONSGML v1.0//EN
CALSCALE:GREGORIAN
METHOD:PUBLISH
X-WR-CALNAME:West Chester Bird Club
X-ORIGINAL-URL:https://westchesterbirdclub.org
X-WR-CALDESC:Events for West Chester Bird Club
REFRESH-INTERVAL;VALUE=DURATION:PT1H
X-Robots-Tag:noindex
X-PUBLISHED-TTL:PT1H
BEGIN:VTIMEZONE
TZID:America/New_York
BEGIN:DAYLIGHT
TZOFFSETFROM:-0500
TZOFFSETTO:-0400
TZNAME:EDT
DTSTART:20230312T070000
END:DAYLIGHT
BEGIN:STANDARD
TZOFFSETFROM:-0400
TZOFFSETTO:-0500
TZNAME:EST
DTSTART:20231105T060000
END:STANDARD
BEGIN:DAYLIGHT
TZOFFSETFROM:-0500
TZOFFSETTO:-0400
TZNAME:EDT
DTSTART:20240310T070000
END:DAYLIGHT
BEGIN:STANDARD
TZOFFSETFROM:-0400
TZOFFSETTO:-0500
TZNAME:EST
DTSTART:20241103T060000
END:STANDARD
BEGIN:DAYLIGHT
TZOFFSETFROM:-0500
TZOFFSETTO:-0400
TZNAME:EDT
DTSTART:20250309T070000
END:DAYLIGHT
BEGIN:STANDARD
TZOFFSETFROM:-0400
TZOFFSETTO:-0500
TZNAME:EST
DTSTART:20251102T060000
END:STANDARD
END:VTIMEZONE
BEGIN:VEVENT
DTSTART;TZID=America/New_York:20241007T193000
DTEND;TZID=America/New_York:20241007T213000
DTSTAMP:20260422T134057
CREATED:20240904T110911Z
LAST-MODIFIED:20240910T202114Z
UID:10001739-1728329400-1728336600@westchesterbirdclub.org
SUMMARY:Smithsonian’s Feather Identification Lab
DESCRIPTION:Faridah Dahlan & Ingred Rochon \nDid you know that molecular and microscopic identification of feathers plays a key role in aviation safety? The Smithsonian’s Feather Identification Lab processes over 11\,000 wildlife strike cases each year to determine which species of birds are involved in collisions with aircraft – the first step to implementing preventative measures to keep both birds and people safe. Learn how the lab identifies both whole feathers and fragmentary bird remains (aka “snarge”) using the Smithsonian’s collection of 600\,000 bird specimens\, as well as the resources of the museum’s Laboratories of Analytical Biology. \n  \nPresenter Faridah Dahlan is a molecular specialist who has worked for the Feather Lab since 2008. Ingrid Rochon began working at the Smithsonian in 2016 as a museum technician\, joining the Feather Lab in 2023 as an apprentice microscopist under Dr. Carla Dove. \n  \nNote: This meeting will be held in person at the meeting house and via Zoom. Zoom signon will start at 7:15 to enable the meeting to begin at 7:30. \n 
URL:https://westchesterbirdclub.org/event/smithsonians-feather-identification-lab/
CATEGORIES:Meetings & Programs
END:VEVENT
BEGIN:VEVENT
DTSTART;TZID=America/New_York:20241021T193000
DTEND;TZID=America/New_York:20241021T213000
DTSTAMP:20260422T134057
CREATED:20240904T111745Z
LAST-MODIFIED:20240910T202753Z
UID:10001740-1729539000-1729546200@westchesterbirdclub.org
SUMMARY:My Patagonia Trip\, and More!
DESCRIPTION:Club Member Sheila Martin\n \nThis is a continuation from last last spring. Jump on board with WCBC member Sheila Martin as we pictorially explore untamed Patagonia – where some of the world’s most stunning landscapes are filled with wildlife to the max! Moment by moment the experience of hiking the walkways around Iguazu Falls is simply nature at its finest. And\, for Sheila\, when Plush-crested Jay & Chestnut-eared Aracari appeared on the parking lot\, she knew it would be days of incomparable sighting thrills\, including up to two dozen dizzying endemics to follow\, just in that pre-tour locale! Atlantic coastal Argentina in November offers exceptional close-up wildlife observation\, straight down to the straits of Tierra del Fuego – with Red Knots ready to migrate\, and Austral Negrito & “Loica” ever-present. Farther inland\, we find the best puma-viewing on the planet! It was southern-hemisphere springtime ’22 – and all the breeding birds were showing off their best. While in Chile\, the quaint atmosphere\, friendly locals and Patagonia Sierra-finch\, Tufted Tit-tyrant plus Magellanic Woodpecker further enriched her experience. Relive with Sheila her outrageously memorable jaunt through a stark & jaw-dropping part of the globe\, full of scenery\, wild mammals\, and birds\, birds\, BIRDS! \n  \nNote: This meeting will be held in person at the meeting house and via Zoom. Zoom signon will start at 7:15 to enable the meeting to begin at 7:30. \n 
URL:https://westchesterbirdclub.org/event/my-patagonia/
CATEGORIES:Meetings & Programs
END:VEVENT
END:VCALENDAR