BEGIN:VCALENDAR
VERSION:2.0
PRODID:-//West Chester Bird Club - ECPv6.15.20//NONSGML v1.0//EN
CALSCALE:GREGORIAN
METHOD:PUBLISH
X-WR-CALNAME:West Chester Bird Club
X-ORIGINAL-URL:https://westchesterbirdclub.org
X-WR-CALDESC:Events for West Chester Bird Club
REFRESH-INTERVAL;VALUE=DURATION:PT1H
X-Robots-Tag:noindex
X-PUBLISHED-TTL:PT1H
BEGIN:VTIMEZONE
TZID:America/New_York
BEGIN:DAYLIGHT
TZOFFSETFROM:-0500
TZOFFSETTO:-0400
TZNAME:EDT
DTSTART:20230312T070000
END:DAYLIGHT
BEGIN:STANDARD
TZOFFSETFROM:-0400
TZOFFSETTO:-0500
TZNAME:EST
DTSTART:20231105T060000
END:STANDARD
BEGIN:DAYLIGHT
TZOFFSETFROM:-0500
TZOFFSETTO:-0400
TZNAME:EDT
DTSTART:20240310T070000
END:DAYLIGHT
BEGIN:STANDARD
TZOFFSETFROM:-0400
TZOFFSETTO:-0500
TZNAME:EST
DTSTART:20241103T060000
END:STANDARD
BEGIN:DAYLIGHT
TZOFFSETFROM:-0500
TZOFFSETTO:-0400
TZNAME:EDT
DTSTART:20250309T070000
END:DAYLIGHT
BEGIN:STANDARD
TZOFFSETFROM:-0400
TZOFFSETTO:-0500
TZNAME:EST
DTSTART:20251102T060000
END:STANDARD
END:VTIMEZONE
BEGIN:VEVENT
DTSTART;TZID=America/New_York:20240401T193000
DTEND;TZID=America/New_York:20240401T213000
DTSTAMP:20260422T232249
CREATED:20230714T200349Z
LAST-MODIFIED:20231006T213630Z
UID:10001565-1711999800-1712007000@westchesterbirdclub.org
SUMMARY:Lenape Birds - Bird Names and Stories From the Original Native Inhabitants of Our Area
DESCRIPTION:Rob Fergus \nDescription:TBD \n  \nBio:TBD \n  \nNote: This meeting will be held in person at the meeting house and via Zoom. Zoom signon will start at 7:15 to enable the meeting to begin at 7:30.
URL:https://westchesterbirdclub.org/event/title-tbd-7/
CATEGORIES:Meetings & Programs
END:VEVENT
BEGIN:VEVENT
DTSTART;TZID=America/New_York:20240415T193000
DTEND;TZID=America/New_York:20240415T213000
DTSTAMP:20260422T232249
CREATED:20230714T200435Z
LAST-MODIFIED:20240207T221204Z
UID:10001568-1713209400-1713216600@westchesterbirdclub.org
SUMMARY:My Patagonia:  Scenery\, Cryptic Mammals\, & Birds\, Birds\, Birds!
DESCRIPTION:Speaker: Sheila Martin\n \nJump on board with WCBC member Sheila Martin as we pictorially explore untamed Patagonia – where some of the world’s most stunning landscapes are filled with wildlife to the max! \n  \nMoment by moment\, the experience of hiking the walkways around Iguazu Falls is simply nature at its finest.  And\, for Sheila\, when Plush-crested Jay & Chestnut-eared Aracari appeared in the parking lot\, she knew it would be days of incomparable sighting thrills\, including up to two dozen dizzying endemics to follow\, just in that pre-tour locale! \n  \nAtlantic coastal Argentina in November offers exceptional close-up wildlife observation\, straight down to the straits of Tierra del Fuego – with Red Knots ready to migrate\, and Austral Negrito & “Loica” ever-present. Farther inland\, we find the best puma viewing on the planet!  It was southern-hemisphere springtime ’22 – and all the breeding birds were showing off their best. While in Chile\, the quaint atmosphere\, friendly locals and Patagonia Sierra-finch\, Tufted Tit-tyrant plus Magellanic Woodpecker further enriched her experience. \n  \nRelive with Sheila her outrageously memorable jaunt through a stark & jaw-dropping part of the globe\, full of scenery\, wild mammals\, and birds\, birds\, BIRDS! \n  \nNote: This meeting will be held in person at the meeting house and via Zoom. Zoom signon will start at 7:15 to enable the meeting to begin at 7:30.
URL:https://westchesterbirdclub.org/event/title-tbd-10/
CATEGORIES:Meetings & Programs
END:VEVENT
END:VCALENDAR