BEGIN:VCALENDAR
VERSION:2.0
PRODID:-//West Chester Bird Club - ECPv6.15.20//NONSGML v1.0//EN
CALSCALE:GREGORIAN
METHOD:PUBLISH
X-WR-CALNAME:West Chester Bird Club
X-ORIGINAL-URL:https://westchesterbirdclub.org
X-WR-CALDESC:Events for West Chester Bird Club
REFRESH-INTERVAL;VALUE=DURATION:PT1H
X-Robots-Tag:noindex
X-PUBLISHED-TTL:PT1H
BEGIN:VTIMEZONE
TZID:America/New_York
BEGIN:DAYLIGHT
TZOFFSETFROM:-0500
TZOFFSETTO:-0400
TZNAME:EDT
DTSTART:20230312T070000
END:DAYLIGHT
BEGIN:STANDARD
TZOFFSETFROM:-0400
TZOFFSETTO:-0500
TZNAME:EST
DTSTART:20231105T060000
END:STANDARD
BEGIN:DAYLIGHT
TZOFFSETFROM:-0500
TZOFFSETTO:-0400
TZNAME:EDT
DTSTART:20240310T070000
END:DAYLIGHT
BEGIN:STANDARD
TZOFFSETFROM:-0400
TZOFFSETTO:-0500
TZNAME:EST
DTSTART:20241103T060000
END:STANDARD
BEGIN:DAYLIGHT
TZOFFSETFROM:-0500
TZOFFSETTO:-0400
TZNAME:EDT
DTSTART:20250309T070000
END:DAYLIGHT
BEGIN:STANDARD
TZOFFSETFROM:-0400
TZOFFSETTO:-0500
TZNAME:EST
DTSTART:20251102T060000
END:STANDARD
END:VTIMEZONE
BEGIN:VEVENT
DTSTART;TZID=America/New_York:20240304T193000
DTEND;TZID=America/New_York:20240304T213000
DTSTAMP:20260423T010728
CREATED:20230714T200217Z
LAST-MODIFIED:20240216T152656Z
UID:10001561-1709580600-1709587800@westchesterbirdclub.org
SUMMARY:Thailand – Birding in  Phetchaburi Township and Beyond
DESCRIPTION:John Mercer \nJohn details his 2023 trip of February 15 to 22 to Thailand\, describing his birding in Phetchaburi Township\, and touching Kaeng Krachen National Park and the Coast. \n  \nNote: This meeting will be held in person at the meeting house and via Zoom. Zoom signon will start at 7:15 to enable the meeting to begin at 7:30.
URL:https://westchesterbirdclub.org/event/title-tbd-4/
CATEGORIES:Meetings & Programs
END:VEVENT
BEGIN:VEVENT
DTSTART;TZID=America/New_York:20240318T193000
DTEND;TZID=America/New_York:20240318T213000
DTSTAMP:20260423T010728
CREATED:20230714T200243Z
LAST-MODIFIED:20240216T152453Z
UID:10001562-1710790200-1710797400@westchesterbirdclub.org
SUMMARY:Pennsylvania Bird Atlas 3
DESCRIPTION:Jeff Kenney & Angela Romanczuk \nThe massive undertaking to catalogue Pennsylvania’s breeding and non-breeding birds known as Pennsylvania Bird Atlas 3 (PBA3) is already underway. PBA3 will only be possible through the efforts of thousands of volunteers carefully logging their data through early 2029. Years of future conservation and land management decisions will be based upon the data collected in the next five years. This session with Chester County Atlas Co-Coordinators Jeff Kenney and Angela Romanczuk will detail how you can contribute and will provide answers to any questions you may have. \n  \nJeff Kenney has lived in Chester County for most of his life. Having been introduced to birding as a child by his father Mike\, Jeff’s passion for birds and nature was mostly dormant until being rekindled in 2020. Now an avid (and moderately obsessive) state and county lister\, Jeff’s favorite place to bird in Chester County is the Crows Nest Preserve/State Game Lands 43 complex in Elverson. Jeff currently resides in Phoenixville with his two dogs\, Vita and Grits\, and is a founding board member of In Color Birding Club\, as well as a Force of Nature volunteer with Natural Lands. \n  \nAngela Romanczuk has lived in multiple Pennsylvania counties\, but has spent most of her adult life in Montgomery and Chester counties. While Angela has always loved being outdoors\, it wasn’t until 2020 that she was introduced to birding. She now enjoys exploring under-birded areas all over Pennsylvania and is forever on the lookout for the American Woodcock. Angela’s favorite local places to bird are Crow’s Nest Preserve in Chester County\, Congo Road Open Space in Montgomery County and her backyard. She is a founding board member of In Color Birding Club and a Force of Nature volunteer with Natural Lands. \n  \nNote: This meeting will be held in person at the meeting house and via Zoom. Zoom signon will start at 7:15 to enable the meeting to begin at 7:30.
URL:https://westchesterbirdclub.org/event/title-tbd-5/
CATEGORIES:Meetings & Programs
END:VEVENT
END:VCALENDAR